Workbook
Name Antwort: '[1]Los 2 HP Kriterienkatalog'!$F$5:$F$7

Sheet Los 1 FTS Preisblatt
D2: Bieter:
A4: Offenes Verfahren IT 002-2017 "Server-Technik" Los 1: Server-Technik Fujitsu Anlage 01 Preisblatt
A6: Nähere Hinweise zum Ausfüllen des Preisblattes sind Punkt 3.3 der Bewerbungsbedingungen zu entnehmen.
A7: Tabelle 1
C8: Server-Technik - Kategorien und Unterkategorien | E8: Rabatt in % auf die zum Zeitpunkt des 18.08.2017 gültigen Fujitsu-Herstellerlisten
A9: 1. | C9: Server-Technik inkl. Betriebssystem und betriebssystemnahe Software
A10: 1.1. | C10: Tower-Server
A11: 1.2. | C11: Rack-Server
A12: 1.3. | C12: Speichersysteme Disk
A13: 1.4. | C13: Speichersysteme Tape
A14: 1.5.
A15: 1.6.
A16: 2. | C16: Server-Zubehörkomponenten
A17: 2.1. | C17: Switches (FC)
A18: 2.2. | C18: USV
A19: 2.3. | C19: NetApp - Systeme
A20: 2.4. | C20: KVM-Switche
A21: 2.5. | C21: Rack-Schränke
A22: 2.6. | C22: Server-Zubehör (z.B. Medien, Tastatur, Mouse)
A23: 2.7. | C23: Betriebssystem, betriebssystemnahe Software
A24: 2.8.
A25: 2.9.
A26: 3. | C26: Server-Garantie
A27: 3.1. | C27: Hardware-Garantie (Fujitsu Product Support Services)
A28: 3.2.
A29: 3.3.
A30: 3.4.
A31: 3.5.
A32: 4. | C32: Fujitsu SPARC
A33: 4.1. | C33: Fujitsu SPARC Server
A34: 4.2. | C34: Fujitsu SPARC Ersatz- und Aufrüstkomponenten
A35: 4.3. | C35: Hardware-Garantie (Fujitsu SPARC Support Services)
A36: 4.4.
A38: Tabelle 2
B39: Anzahl | C39: Leistungsklasse 1 | D39: Hersteller- artikelnummern | E39: Listenpreis netto/ EUR | F39: Rabatt in % | G39: Preis aus Anzahl / Listenpreis netto/ EUR und Rabatt in %
A40: 1.1. | B40: 1 | C40: PY TX2560 M2 | D40: S26361-K1583-V101 | G40: =SUM(E40-E40*F40/100)*B40 -> 0
A41: 1.1.1. | B41: 1 | C41: Intel Xeon E5-2630Lv4 10C/20T 1.80 GHz | D41: S26361-F3933-E131 | G41: =SUM(E41-E41*F41/100)*B41 -> 0
A42: 1.1.2. | B42: 3 | C42: 8GB (1x8GB) 1Rx4 DDR4-2400 R ECC | D42: S26361-F3934-E511 | G42: =SUM(E42-E42*F42/100)*B42 -> 0
A43: 1.1.3. | B43: 1 | C43: Independent Mode Installation | D43: S26361-F3694-E10 | G43: =SUM(E43-E43*F43/100)*B43 -> 0
A44: 1.1.4. | B44: 1 | C44: Basic 2.5' kit (8x) | D44: S26361-F3900-E208 | G44: =SUM(E44-E44*F44/100)*B44 -> 0
A45: 1.1.5. | B45: 1 | C45: DVD-RW supermulti 1.6" SATA | D45: S26361-F3267-E2 | G45: =SUM(E45-E45*F45/100)*B45 -> 0
A46: 1.1.6. | B46: 1 | C46: Tape Kit LTO7HH 6TB 300MB/s SAS 6Gb | D46: S26361-F5606-E1 | G46: =SUM(E46-E46*F46/100)*B46 -> 0
A47: 1.1.7. | B47: 1 | C47: PSAS CP400i für LTO | D47: S26361-F3842-E20 | G47: =SUM(E47-E47*F47/100)*B47 -> 0
A48: 1.1.8. | B48: 2 | C48: HD SAS 12G 300GB 15K HOT PL 2.5' EP | D48: S26361-F5531-E530 | G48: =SUM(E48-E48*F48/100)*B48 -> 0
A49: 1.1.9. | B49: 3 | C49: HD SAS 12G 900GB 10K 512n HOT PL 2.5' EP | D49: S26361-F5550-E190 | G49: =SUM(E49-E49*F49/100)*B49 -> 0
A50: 1.1.10. | B50: 1 | C50: PRAID CP400i | D50: S26361-F3842-E1 | G50: =SUM(E50-E50*F50/100)*B50 -> 0
A51: 1.1.11. | B51: 2 | C51: SFP+ Module Multi Mode Fiber 10GbE LC | D51: S26361-F3986-E3 | G51: =SUM(E51-E51*F51/100)*B51 -> 0
... A60: 1.1.20. | B60: 1 | C60: TP 3J VO,24x7,4h Az | D60: FSP:GP3S63Z00DESV2 | G60: =SUM(E60-E60*F60/100)*B60 -> 0
C61: Preis für Bewertungsmatrix | G61: =SUM(G40:G60) -> 0
B62: Anzahl | C62: Leistungsklasse 2 | D62: Hersteller- artikelnummern | E62: Listenpreis netto | F62: Rabatt in % | G62: Preis aus Anzahl / Listenpreis netto/ EUR und Rabatt in %
A63: 1.2. | B63: 1 | C63: PY RX2540 M4 8x 2,5' | D63: S26361-K1567-V408 | G63: =SUM(E63-E63*F63/100)*B63 -> 0
A64: 1.2.1. | B64: 2 | C64: Intel Xeon Gold 5115 10C 2.40 GHz | D64: S26361-F4051-E115 | G64: =SUM(E64-E64*F64/100)*B64 -> 0
A65: 1.2.2. | B65: 1 | C65: Kühllösung für 2te CPU | D65: S26361-F3849-E100 | G65: =SUM(E65-E65*F65/100)*B65 -> 0
A66: 1.2.3. | B66: 2 | C66: Independent Mode Installation | D66: S26361-F3694-E10 | G66: =SUM(E66-E66*F66/100)*B66 -> 0
A67: 1.2.4. | B67: 4 | C67: 16GB (1x16GB) 1Rx4 DDR4-2666 R ECC | D67: S26361-F4026-E216 | G67: =SUM(E67-E67*F67/100)*B67 -> 0
A68: 1.2.5. | B68: 1 | C68: DVD-RW supermulti ultraslim SATA | D68: S26361-F3778-E1 | G68: =SUM(E68-E68*F68/100)*B68 -> 0
A69: 1.2.6. | B69: 3 | C69: HD SAS 12G 300GB 15K HOT PL 2.5' EP | D69: S26361-F5531-E530 | G69: =SUM(E69-E69*F69/100)*B69 -> 0
A70: 1.2.7. | B70: 1 | C70: PRAID CP400i | D70: S26361-F3842-E1 | G70: =SUM(E70-E70*F70/100)*B70 -> 0
A71: 1.2.8. | B71: 2 | C71: PFC EP LPe31002 2x 16Gb Emulex LP | D71: S26361-F5596-E202 | G71: =SUM(E71-E71*F71/100)*B71 -> 0
A72: 1.2.9. | B72: 1 | C72: PLAN EM 4x 1Gb T OCP interface | D72: S26361-F3953-E401 | G72: =SUM(E72-E72*F72/100)*B72 -> 0
A73: 1.2.10. | B73: 1 | C73: PLAN CP 4x1Gbit Cu Intel I350-T4 LP | D73: S26361-F4610-E204 | G73: =SUM(E73-E73*F73/100)*B73 -> 0
A74: 1.2.11. | B74: 1 | C74: Rack Mount Kit F1 CMA QRL LV | D74: S26361-F2735-E175 | G74: =SUM(E74-E74*F74/100)*B74 -> 0
... A82: 1.2.19. | B82: 1 | C82: TP HDD Verwurf f. Garantie/Servicedauer | D82: FSP:GTXA00Z00DESV2 | G82: =SUM(E82-E82*F82/100)*B82 -> 0
C83: Preis für Bewertungsmatrix | G83: =SUM(G62:G82) -> 0
B84: Anzahl | C84: Leistungsklasse 3 | D84: Hersteller- artikelnummern | E84: Listenpreis netto | F84: Rabatt in % | G84: Preis aus Anzahl / Listenpreis netto/ EUR und Rabatt in %
A85: 1.3. | B85: 1 | C85: PY RX4770 M4 | D85: S26361-K1587-V200 | G85: =SUM(E85-E85*F85/100)*B85 -> 0
A86: 1.3.1. | B86: 4 | C86: Intel Xeon Gold 6132 14C 2.60 GHz | D86: S26361-F4051-E232 | G86: =SUM(E86-E86*F86/100)*B86 -> 0
A87: 1.3.2. | B87: 1 | C87: Kühllösung für 3te und 4te CPU | D87: S26361-F4051-E4 | G87: =SUM(E87-E87*F87/100)*B87 -> 0
A88: 1.3.3. | B88: 4 | C88: Independent Mode Installation | D88: S26361-F3694-E10 | G88: =SUM(E88-E88*F88/100)*B88 -> 0
A89: 1.3.4. | B89: 8 | C89: 32GB (1x32GB) 2Rx4 DDR4-2666 R ECC | D89: S26361-F4026-E232 | G89: =SUM(E89-E89*F89/100)*B89 -> 0
A90: 1.3.5. | B90: 3 | C90: HD SAS 12G 300GB 15K HOT PL 2.5' EP | D90: S26361-F5531-E530 | G90: =SUM(E90-E90*F90/100)*B90 -> 0
A91: 1.3.6. | B91: 1 | C91: PRAID CP400i | D91: S26361-F3842-E1 | G91: =SUM(E91-E91*F91/100)*B91 -> 0
A92: 1.3.7. | B92: 2 | C92: SFP+ Module Multi Mode Fiber 10GbE LC | D92: S26361-F3986-E3 | G92: =SUM(E92-E92*F92/100)*B92 -> 0
A93: 1.3.8. | B93: 3 | C93: SFP+ Transceiver 10G/1G Dual Rate SR | D93: S26361-F3986-E5 | G93: =SUM(E93-E93*F93/100)*B93 -> 0
A94: 1.3.9. | B94: 1 | C94: PLAN EM 4x 10GB SFP+ OCP interface | D94: S26361-F3953-E411 | G94: =SUM(E94-E94*F94/100)*B94 -> 0
A95: 1.3.10. | B95: 1 | C95: PLAN EP X710-DA2 2x10Gb SFP+ LP | D95: S26361-F3640-E202 | G95: =SUM(E95-E95*F95/100)*B95 -> 0
A96: 1.3.11. | B96: 1 | C96: Rack Mount Kit F1 CMA QRL LV | D96: S26361-F2735-E175 | G96: =SUM(E96-E96*F96/100)*B96 -> 0
... A104: 1.3.19. | B104: 1 | C104: TP HDD Verwurf f. Garantie/Servicedauer | D104: FSP:GTXA00Z00DESV4 | G104: =SUM(E104-E104*F104/100)*B104 -> 0
C105: Preis für Bewertungsmatrix | G105: =SUM(G84:G104) -> 0
B106: Anzahl | C106: Leistungsklasse 4 | D106: Hersteller- artikelnummern | E106: Listenpreis netto | F106: Rabatt in % | G106: Preis aus Anzahl / Listenpreis netto/ EUR und Rabatt in %
A107: 1.4. | B107: 1 | C107: Grundeinheit PQ2800B3 | D107: MCH3AC111B | G107: =SUM(E107-E107*F107/100)*B107 -> 0
A108: 1.4.1. | B108: 1 | C108: PQ 2x00 Management Board | D108: MC-5HMM21 3) | G108: =SUM(E108-E108*F108/100)*B108 -> 0
A109: 1.4.2. | B109: 1 | C109: Memory Mode Standard Installation | D109: MC-0PMM1 | G109: =SUM(E109-E109*F109/100)*B109 -> 0
A110: 1.4.3. | B110: 6 | C110: Netzkabel 16A IEC320 C19->C20, 3.5m | D110: S26361-F3151-E301 | G110: =SUM(E110-E110*F110/100)*B110 -> 0
A111: 1.4.4. | B111: 6 | C111: Power Supply 2.880W platinum hp | D111: MC-5HPS41 | G111: =SUM(E111-E111*F111/100)*B111 -> 0
A113: 1.4.5. | B113: 2 | C113: PQ2800B2 Disk Unit | D113: MC-5HDU21B | G113: =SUM(E113-E113*F113/100)*B113 -> 0
A114: 1.4.6. | B114: 8 | C114: HD SAS 12G 900GB 10K 512n HOT PL 2.5' EP | D114: MC-5DSA41 | G114: =SUM(E114-E114*F114/100)*B114 -> 0
A115: 1.4.7. | B115: 2 | C115: FBU option für PRAID EP420i und EP420e | D115: MC-0JFB31 | G115: =SUM(E115-E115*F115/100)*B115 -> 0
A116: 1.4.8. | B116: 2 | C116: PRAID EP420i | D116: MC-0JSR51 | G116: =SUM(E116-E116*F116/100)*B116 -> 0
A118: 1.4.9. | B118: 3 | C118: System Board PQ2800B3 | D118: MC-3HSB91B | G118: =SUM(E118-E118*F118/100)*B118 -> 0
A119: 1.4.10. | B119: 6 | C119: Xeon E7-8855v4 14C/28T 2.10GHz 35MB | D119: MC-3BEK11B | G119: =SUM(E119-E119*F119/100)*B119 -> 0
A120: 1.4.11. | B120: 6 | C120: 32GB (2x16GB) 1Rx4 DDR4-2400 R ECC | D120: MC-3CD621B | G120: =SUM(E120-E120*F120/100)*B120 -> 0
... A128: 1.4.16. | B128: 1 | C128: TP 5J VO,24x7,4h Az | D128: FSP:GP5S63Z00DESVQ | G128: =SUM(E128-E128*F128/100)*B128 -> 0
C129: Preis für Bewertungsmatrix | G129: =SUM(G107:G128) -> 0
B130: Anzahl | C130: Leistungsklasse 5 | D130: Hersteller- artikelnummern | E130: Listenpreis netto | F130: Rabatt in % | G130: Preis aus Anzahl / Listenpreis netto/ EUR und Rabatt in %
A131: 1.5. | B131: 1 | C131: PY BX900 S2 Systemeinheit ohne SV | D131: S26361-K1421-V300 | G131: =SUM(E131-E131*F131/100)*B131 -> 0
A132: 1.5.1. | B132: 1 | C132: Tragewinkel 10HE in asymmetrische Racks | D132: S26361-F4530-E14 | G132: =SUM(E132-E132*F132/100)*B132 -> 0
A133: 1.5.2. | B133: 1 | C133: Region-Kit APAC/EMEA/Indien | D133: S26361-F1452-E100 | G133: =SUM(E133-E133*F133/100)*B133 -> 0
A134: 1.5.3. | B134: 6 | C134: BX900 PSU 2.880W platinum hp ohne Netzk. | D134: S26113-F606-E300 | G134: =SUM(E134-E134*F134/100)*B134 -> 0
A135: 1.5.4. | B135: 6 | C135: Netzkabel 16A IEC320 C19->C20, 3.5m | D135: S26361-F3151-E301 | G135: =SUM(E135-E135*F135/100)*B135 -> 0
...

Sheet Los 1 FTS Bewertungsmatrix
A3: Leistungsklasse | B3: Gewichtung Leistungsklasse | C3: Preis aus Los 1 FTS Preisblatt | D3: Gewichtete Preise
A5: Leistungsklasse 1 | B5: 0.05 | C5: ='Los 1 FTS Preisblatt'!G61 -> 0 | D5: =SUM(B5*C5) -> 0
A6: Leistungsklasse 2 | B6: 0.2 | C6: ='Los 1 FTS Preisblatt'!G83 -> 0 | D6: =SUM(B6*C6) -> 0
A7: Leistungsklasse 3 | B7: 0.2 | C7: ='Los 1 FTS Preisblatt'!G105 -> 0 | D7: =SUM(B7*C7) -> 0
A8: Leistungsklasse 4 | B8: 0.05 | C8: ='Los 1 FTS Preisblatt'!G129 -> 0 | D8: =SUM(B8*C8) -> 0
A9: Leistungsklasse 5 | B9: 0.05 | C9: ='Los 1 FTS Preisblatt'!G165 -> 0 | D9: =SUM(B9*C9) -> 0
A10: Leistungsklasse 6 | B10: 0.05 | C10: ='Los 1 FTS Preisblatt'!G179 -> 0 | D10: =SUM(B10*C10) -> 0
A11: Leistungsklasse 7 | B11: 0.1 | C11: ='Los 1 FTS Preisblatt'!G187 -> 0 | D11: =SUM(B11*C11) -> 0
A12: Leistungsklasse 8 | B12: 0.1 | C12: ='Los 1 FTS Preisblatt'!G196 -> 0 | D12: =SUM(B12*C12) -> 0
A13: Leistungsklasse 9 | B13: 0.05 | C13: ='Los 1 FTS Preisblatt'!G207 -> 0 | D13: =SUM(B13*C13) -> 0
A14: Leistungsklasse 10 Zubehör | B14: 0.1 | C14: ='Los 1 FTS Preisblatt'!G222 -> 0 | D14: =SUM(B14*C14) -> 0
A15: Leistungsklasse 11 Dienstleistungen | B15: 0.05 | C15: ='Los 1 FTS Preisblatt'!G241 -> 0 | D15: =SUM(B15*C15) -> 0
A16: Summe | B16: =SUM(B5:B15) -> 1 | C16: =SUM(C5:C15) -> 0 | D16: =SUM(D5:D15) -> 0
A19: Kategorien | B19: Rabatt
A21: Server-Technik inkl. Betriebssystem und betriebssystemnahe Software | B21: ='Los 1 FTS Preisblatt'!E9 -> 0
A22: Server-Zubehörkomponenten | B22: ='Los 1 FTS Preisblatt'!E16 -> 0
A23: Server-Garantie | B23: ='Los 1 FTS Preisblatt'!E26 -> 0
A24: Fujitsu SPARC | B24: ='Los 1 FTS Preisblatt'!E32 -> 0
A25: Summe | B25: =SUM(B21:B24) -> 0
A28: P = Gesamtsumme aus gewichteten Preisen und Rabatt | B28: =(D16*(3-B25)) -> 0
