Workbook
Name Antwort: '[1]Los 2 HP Kriterienkatalog'!$F$5:$F$7

Sheet Los 1 FTS Preisblatt
D2: Bieter:
A4: Offenes Verfahren IT 002-2017 "Server-Technik" Los 1: Server-Technik Fujitsu Anlage 01 Preisblatt
A6: Nähere Hinweise zum Ausfüllen des Preisblattes sind Punkt 3.3 der Bewerbungsbedingungen zu entnehmen.
A7: Tabelle 1
C8: Server-Technik - Kategorien und Unterkategorien | E8: Rabatt in % auf die zum Zeitpunkt des 18.08.2017 gültigen Fujitsu-Herstellerlisten
A9: 1. | C9: Server-Technik inkl. Betriebssystem und betriebssystemnahe Software
A10: 1.1. | C10: Tower-Server
A11: 1.2. | C11: Rack-Server
A12: 1.3. | C12: Speichersysteme Disk
A13: 1.4. | C13: Speichersysteme Tape
A14: 1.5.
A15: 1.6.
A16: 2. | C16: Server-Zubehörkomponenten
A17: 2.1. | C17: Switches (FC)
A18: 2.2. | C18: USV
A19: 2.3. | C19: NetApp - Systeme
A20: 2.4. | C20: KVM-Switche
A21: 2.5. | C21: Rack-Schränke
A22: 2.6. | C22: Server-Zubehör (z.B. Medien, Tastatur, Mouse)
A23: 2.7. | C23: Betriebssystem, betriebssystemnahe Software
A24: 2.8.
A25: 2.9.
A26: 3. | C26: Server-Garantie
A27: 3.1. | C27: Hardware-Garantie (Fujitsu Product Support Services)
A28: 3.2.
A29: 3.3.
A30: 3.4.
A31: 3.5.
A32: 4. | C32: Fujitsu SPARC
A33: 4.1. | C33: Fujitsu SPARC Server
A34: 4.2. | C34: Fujitsu SPARC Ersatz- und Aufrüstkomponenten
A35: 4.3. | C35: Hardware-Garantie (Fujitsu SPARC Support Services)
A36: 4.4.
A38: Tabelle 2
B39: Anzahl | C39: Leistungsklasse 1 | D39: Hersteller- artikelnummern | E39: Listenpreis netto/ EUR | F39: Rabatt in % | G39: Preis aus Anzahl / Listenpreis netto/ EUR und Rabatt in %
A40: 1.1. | B40: 1 | C40: PY TX2560 M2 | D40: S26361-K1583-V101 | G40: =SUM(E40-E40*F40/100)*B40 -> 0
A41: 1.1.1. | B41: 1 | C41: Intel Xeon E5-2630Lv4 10C/20T 1.80 GHz | D41: S26361-F3933-E131 | G41: =SUM(E41-E41*F41/100)*B41 -> 0
A42: 1.1.2. | B42: 3 | C42: 8GB (1x8GB) 1Rx4 DDR4-2400 R ECC | D42: S26361-F3934-E511 | G42: =SUM(E42-E42*F42/100)*B42 -> 0
A43: 1.1.3. | B43: 1 | C43: Independent Mode Installation | D43: S26361-F3694-E10 | G43: =SUM(E43-E43*F43/100)*B43 -> 0
A44: 1.1.4. | B44: 1 | C44: Basic 2.5' kit (8x) | D44: S26361-F3900-E208 | G44: =SUM(E44-E44*F44/100)*B44 -> 0
...

Sheet Los 1 FTS Bewertungsmatrix
A3: Leistungsklasse | B3: Gewichtung Leistungsklasse | C3: Preis aus Los 1 FTS Preisblatt | D3: Gewichtete Preise
A5: Leistungsklasse 1 | B5: 0.05 | C5: ='Los 1 FTS Preisblatt'!G61 -> 0 | D5: =SUM(B5*C5) -> 0
A6: Leistungsklasse 2 | B6: 0.2 | C6: ='Los 1 FTS Preisblatt'!G83 -> 0 | D6: =SUM(B6*C6) -> 0
A7: Leistungsklasse 3 | B7: 0.2 | C7: ='Los 1 FTS Preisblatt'!G105 -> 0 | D7: =SUM(B7*C7) -> 0
A8: Leistungsklasse 4 | B8: 0.05 | C8: ='Los 1 FTS Preisblatt'!G129 -> 0 | D8: =SUM(B8*C8) -> 0
A9: Leistungsklasse 5 | B9: 0.05 | C9: ='Los 1 FTS Preisblatt'!G165 -> 0 | D9: =SUM(B9*C9) -> 0
A10: Leistungsklasse 6 | B10: 0.05 | C10: ='Los 1 FTS Preisblatt'!G179 -> 0 | D10: =SUM(B10*C10) -> 0
A11: Leistungsklasse 7 | B11: 0.1 | C11: ='Los 1 FTS Preisblatt'!G187 -> 0 | D11: =SUM(B11*C11) -> 0
A12: Leistungsklasse 8 | B12: 0.1 | C12: ='Los 1 FTS Preisblatt'!G196 -> 0 | D12: =SUM(B12*C12) -> 0
A13: Leistungsklasse 9 | B13: 0.05 | C13: ='Los 1 FTS Preisblatt'!G207 -> 0 | D13: =SUM(B13*C13) -> 0
A14: Leistungsklasse 10 Zubehör | B14: 0.1 | C14: ='Los 1 FTS Preisblatt'!G222 -> 0 | D14: =SUM(B14*C14) -> 0
A15: Leistungsklasse 11 Dienstleistungen | B15: 0.05 | C15: ='Los 1 FTS Preisblatt'!G241 -> 0 | D15: =SUM(B15*C15) -> 0
A16: Summe | B16: =SUM(B5:B15) -> 1 | C16: =SUM(C5:C15) -> 0 | D16: =SUM(D5:D15) -> 0
A19: Kategorien | B19: Rabatt
A21: Server-Technik inkl. Betriebssystem und betriebssystemnahe Software | B21: ='Los 1 FTS Preisblatt'!E9 -> 0
A22: Server-Zubehörkomponenten | B22: ='Los 1 FTS Preisblatt'!E16 -> 0
A23: Server-Garantie | B23: ='Los 1 FTS Preisblatt'!E26 -> 0
A24: Fujitsu SPARC | B24: ='Los 1 FTS Preisblatt'!E32 -> 0
A25: Summe | B25: =SUM(B21:B24) -> 0
A28: P = Gesamtsumme aus gewichteten Preisen und Rabatt | B28: =(D16*(3-B25)) -> 0
